BEGIN:VCALENDAR
VERSION:2.0
PRODID:-//Ismaili Health Professionals Association USA - ECPv6.15.20//NONSGML v1.0//EN
CALSCALE:GREGORIAN
METHOD:PUBLISH
X-ORIGINAL-URL:https://ihpaonline.org
X-WR-CALDESC:Events for Ismaili Health Professionals Association USA
REFRESH-INTERVAL;VALUE=DURATION:PT1H
X-Robots-Tag:noindex
X-PUBLISHED-TTL:PT1H
BEGIN:VTIMEZONE
TZID:America/Los_Angeles
BEGIN:DAYLIGHT
TZOFFSETFROM:-0800
TZOFFSETTO:-0700
TZNAME:PDT
DTSTART:20200308T100000
END:DAYLIGHT
BEGIN:STANDARD
TZOFFSETFROM:-0700
TZOFFSETTO:-0800
TZNAME:PST
DTSTART:20201101T090000
END:STANDARD
BEGIN:DAYLIGHT
TZOFFSETFROM:-0800
TZOFFSETTO:-0700
TZNAME:PDT
DTSTART:20210314T100000
END:DAYLIGHT
BEGIN:STANDARD
TZOFFSETFROM:-0700
TZOFFSETTO:-0800
TZNAME:PST
DTSTART:20211107T090000
END:STANDARD
BEGIN:DAYLIGHT
TZOFFSETFROM:-0800
TZOFFSETTO:-0700
TZNAME:PDT
DTSTART:20220313T100000
END:DAYLIGHT
BEGIN:STANDARD
TZOFFSETFROM:-0700
TZOFFSETTO:-0800
TZNAME:PST
DTSTART:20221106T090000
END:STANDARD
BEGIN:DAYLIGHT
TZOFFSETFROM:-0800
TZOFFSETTO:-0700
TZNAME:PDT
DTSTART:20230312T100000
END:DAYLIGHT
BEGIN:STANDARD
TZOFFSETFROM:-0700
TZOFFSETTO:-0800
TZNAME:PST
DTSTART:20231105T090000
END:STANDARD
BEGIN:DAYLIGHT
TZOFFSETFROM:-0800
TZOFFSETTO:-0700
TZNAME:PDT
DTSTART:20240310T100000
END:DAYLIGHT
BEGIN:STANDARD
TZOFFSETFROM:-0700
TZOFFSETTO:-0800
TZNAME:PST
DTSTART:20241103T090000
END:STANDARD
BEGIN:DAYLIGHT
TZOFFSETFROM:-0800
TZOFFSETTO:-0700
TZNAME:PDT
DTSTART:20250309T100000
END:DAYLIGHT
BEGIN:STANDARD
TZOFFSETFROM:-0700
TZOFFSETTO:-0800
TZNAME:PST
DTSTART:20251102T090000
END:STANDARD
BEGIN:DAYLIGHT
TZOFFSETFROM:-0800
TZOFFSETTO:-0700
TZNAME:PDT
DTSTART:20260308T100000
END:DAYLIGHT
BEGIN:STANDARD
TZOFFSETFROM:-0700
TZOFFSETTO:-0800
TZNAME:PST
DTSTART:20261101T090000
END:STANDARD
END:VTIMEZONE
BEGIN:VTIMEZONE
TZID:America/Chicago
BEGIN:DAYLIGHT
TZOFFSETFROM:-0600
TZOFFSETTO:-0500
TZNAME:CDT
DTSTART:20200308T080000
END:DAYLIGHT
BEGIN:STANDARD
TZOFFSETFROM:-0500
TZOFFSETTO:-0600
TZNAME:CST
DTSTART:20201101T070000
END:STANDARD
BEGIN:DAYLIGHT
TZOFFSETFROM:-0600
TZOFFSETTO:-0500
TZNAME:CDT
DTSTART:20210314T080000
END:DAYLIGHT
BEGIN:STANDARD
TZOFFSETFROM:-0500
TZOFFSETTO:-0600
TZNAME:CST
DTSTART:20211107T070000
END:STANDARD
BEGIN:DAYLIGHT
TZOFFSETFROM:-0600
TZOFFSETTO:-0500
TZNAME:CDT
DTSTART:20220313T080000
END:DAYLIGHT
BEGIN:STANDARD
TZOFFSETFROM:-0500
TZOFFSETTO:-0600
TZNAME:CST
DTSTART:20221106T070000
END:STANDARD
BEGIN:DAYLIGHT
TZOFFSETFROM:-0600
TZOFFSETTO:-0500
TZNAME:CDT
DTSTART:20230312T080000
END:DAYLIGHT
BEGIN:STANDARD
TZOFFSETFROM:-0500
TZOFFSETTO:-0600
TZNAME:CST
DTSTART:20231105T070000
END:STANDARD
BEGIN:DAYLIGHT
TZOFFSETFROM:-0600
TZOFFSETTO:-0500
TZNAME:CDT
DTSTART:20240310T080000
END:DAYLIGHT
BEGIN:STANDARD
TZOFFSETFROM:-0500
TZOFFSETTO:-0600
TZNAME:CST
DTSTART:20241103T070000
END:STANDARD
BEGIN:DAYLIGHT
TZOFFSETFROM:-0600
TZOFFSETTO:-0500
TZNAME:CDT
DTSTART:20250309T080000
END:DAYLIGHT
BEGIN:STANDARD
TZOFFSETFROM:-0500
TZOFFSETTO:-0600
TZNAME:CST
DTSTART:20251102T070000
END:STANDARD
BEGIN:DAYLIGHT
TZOFFSETFROM:-0600
TZOFFSETTO:-0500
TZNAME:CDT
DTSTART:20260308T080000
END:DAYLIGHT
BEGIN:STANDARD
TZOFFSETFROM:-0500
TZOFFSETTO:-0600
TZNAME:CST
DTSTART:20261101T070000
END:STANDARD
END:VTIMEZONE
BEGIN:VTIMEZONE
TZID:America/New_York
BEGIN:DAYLIGHT
TZOFFSETFROM:-0500
TZOFFSETTO:-0400
TZNAME:EDT
DTSTART:20200308T070000
END:DAYLIGHT
BEGIN:STANDARD
TZOFFSETFROM:-0400
TZOFFSETTO:-0500
TZNAME:EST
DTSTART:20201101T060000
END:STANDARD
BEGIN:DAYLIGHT
TZOFFSETFROM:-0500
TZOFFSETTO:-0400
TZNAME:EDT
DTSTART:20210314T070000
END:DAYLIGHT
BEGIN:STANDARD
TZOFFSETFROM:-0400
TZOFFSETTO:-0500
TZNAME:EST
DTSTART:20211107T060000
END:STANDARD
BEGIN:DAYLIGHT
TZOFFSETFROM:-0500
TZOFFSETTO:-0400
TZNAME:EDT
DTSTART:20220313T070000
END:DAYLIGHT
BEGIN:STANDARD
TZOFFSETFROM:-0400
TZOFFSETTO:-0500
TZNAME:EST
DTSTART:20221106T060000
END:STANDARD
BEGIN:DAYLIGHT
TZOFFSETFROM:-0500
TZOFFSETTO:-0400
TZNAME:EDT
DTSTART:20230312T070000
END:DAYLIGHT
BEGIN:STANDARD
TZOFFSETFROM:-0400
TZOFFSETTO:-0500
TZNAME:EST
DTSTART:20231105T060000
END:STANDARD
END:VTIMEZONE
BEGIN:VEVENT
DTSTART;TZID=America/Los_Angeles:20250518T090000
DTEND;TZID=America/Los_Angeles:20250518T150000
DTSTAMP:20260419T152827
CREATED:20250322T042827Z
LAST-MODIFIED:20250322T042917Z
UID:10000028-1747558800-1747580400@ihpaonline.org
SUMMARY:IHPA West Conference 2025 Longevity & Lifestyle Medicine
DESCRIPTION:Join leading physicians\, researchers\, and innovators at the forefront of the Medicine 3.0 revolution—where cutting-edge science converges with proactive\, personalized\, and preventive healthcare. Explore the latest breakthroughs in longevity\, healthspan optimization\, and lifestyle medicine\, and discover how technology\, diagnostics\, and precision medicine are shaping the future of aging. \nIHPA West Conference 2025 Information Packet
URL:https://ihpaonline.org/event/ihpa-west-conference-2025-longevity-lifestyle-medicine/
LOCATION:Santa Clara Valley JK\, 691 S. Milpitas Blvd\, Milpitas\, CA\, 95035\, United States
CATEGORIES:Regional
END:VEVENT
BEGIN:VEVENT
DTSTART;TZID=America/Chicago:20250425T210000
DTEND;TZID=America/Chicago:20250425T220000
DTSTAMP:20260419T152827
CREATED:20250322T035401Z
LAST-MODIFIED:20250322T035502Z
UID:10000027-1745614800-1745618400@ihpaonline.org
SUMMARY:Spring Social Mixer (Chicagoland)
DESCRIPTION:IHPA invites all Glenview-based health professionals to an informal gathering on Friday\, April 25. \nJoin us at Spice & Fire Grill\, just 3 minutes from HQ Jamatkhana (at Golf Rd & Washington Rd)\, following Jamatkhana ceremonies. Come connect\, relax\, and build community with fellow healthcare professionals!
URL:https://ihpaonline.org/event/spring-social-mixer-chicagoland/
LOCATION:Spice & Fire Grill\, 7925 Golf Road\, Morton Grove\, IL\, 60053\, United States
CATEGORIES:Regional
END:VEVENT
BEGIN:VEVENT
DTSTART;TZID=America/Chicago:20241115T213000
DTEND;TZID=America/Chicago:20241115T230000
DTSTAMP:20260419T152827
CREATED:20241104T031720Z
LAST-MODIFIED:20241104T031720Z
UID:10000024-1731706200-1731711600@ihpaonline.org
SUMMARY:Chicago Fall Meetup
DESCRIPTION:Join us after Jamatkhana ceremonies at Falafel Kebab Station for a fall meetup. We’ll exchange updates and reconnect\, and we’ll welcome IHPs new to Chicago Downtown Jamatkhana to widen our circle.
URL:https://ihpaonline.org/event/chicago-fall-meetup/
LOCATION:Falafel Kebab Station\, 1133 W Granville Ave\, Chicago\, IL\, 60660\, United States
CATEGORIES:Regional
ATTACH;FMTTYPE=image/png:https://ihpaonline.org/portal/wp-content/uploads/indian-networking-event.png
END:VEVENT
BEGIN:VEVENT
DTSTART;TZID=America/Chicago:20241026T200000
DTEND;TZID=America/Chicago:20241026T210000
DTSTAMP:20260419T152827
CREATED:20241020T143647Z
LAST-MODIFIED:20241020T143736Z
UID:10000023-1729972800-1729976400@ihpaonline.org
SUMMARY:Mocha Moments (Central)
DESCRIPTION:Join us for bagels\, coffee\, and an evening of networking.
URL:https://ihpaonline.org/event/mocha-moments/
LOCATION:Bagel Bar\, 4622 Windhaven Pkwy\, Suite 200\, The Colony\, TX\, United States
CATEGORIES:Regional
ATTACH;FMTTYPE=image/jpeg:https://ihpaonline.org/portal/wp-content/uploads/AdobeStock_862857799-scaled.jpeg
END:VEVENT
BEGIN:VEVENT
DTSTART;TZID=America/Chicago:20240907T200000
DTEND;TZID=America/Chicago:20240907T213000
DTSTAMP:20260419T152827
CREATED:20240818T022922Z
LAST-MODIFIED:20240818T023522Z
UID:10000022-1725739200-1725744600@ihpaonline.org
SUMMARY:Innovating Into Excellence
DESCRIPTION:Hear from colleagues who have taken innovative paths in their careers and excelled in their pursuits. Speakers will include Gulzar Amlani\, R.N.\, a nurse & entrepreneur; Salima Kapadia\, B.S.\, R.T.\, a traveling radiation technologist; and Sanya Virani\, M.D.\, M.P.H.\, a general & forensic psychiatrist.
URL:https://ihpaonline.org/event/innovating-into-excellence/
LOCATION:Chicago Downtown Jamatkhana Social Hall
CATEGORIES:Regional
ATTACH;FMTTYPE=image/jpeg:https://ihpaonline.org/portal/wp-content/uploads/AdobeStock_748089378-scaled.jpeg
END:VEVENT
BEGIN:VEVENT
DTSTART;TZID=America/Chicago:20221016T110000
DTEND;TZID=America/Chicago:20221016T150000
DTSTAMP:20260419T152827
CREATED:20220424T205353Z
LAST-MODIFIED:20220510T005955Z
UID:10000014-1665918000-1665932400@ihpaonline.org
SUMMARY:IHPA Central Annual Picnic
DESCRIPTION:Aga Khan Health Board for the Central US & The Ismaili Health Professionals Association \nCordially invite all health care professionals and their families to a fun filled day at Rockledge Park in Grapevine. \nActivities will include: Karaoke\, basketball\, volleyball\, throwball\, kite flying\, kayaking\, face painting and networking. \nNote there is a nominal fee to cover expenses: Adults $20\, Children 5-13: $5 and Children under 5 are free \n 
URL:https://ihpaonline.org/event/ihpa-central-annual-picnic/
LOCATION:Rockledge Park\, 3600 Pilot Point\, Grapevine\, 76051\, United States
CATEGORIES:Regional
ATTACH;FMTTYPE=image/png:https://ihpaonline.org/portal/wp-content/uploads/picnic.png
END:VEVENT
BEGIN:VEVENT
DTSTART;TZID=America/Chicago:20220612T093000
DTEND;TZID=America/Chicago:20220612T170000
DTSTAMP:20260419T152827
CREATED:20220601T190542Z
LAST-MODIFIED:20220601T191551Z
UID:10000020-1655026200-1655053200@ihpaonline.org
SUMMARY:IHPA Midwest: Mindful Hike and Networking Event
DESCRIPTION:Join us on June 12\, 2022 for a Mindful Hike in Gallery Park followed by a networking event in Glenview Jamat Khana Social Hall. Registration Required.
URL:https://ihpaonline.org/event/ihpa-midwest-mindful-hike-and-networking-event/
LOCATION:Gallery Park\, 2400 Chestnut Ave\, Glenview\, IL\, 60626\, United States
CATEGORIES:Regional
ATTACH;FMTTYPE=image/jpeg:https://ihpaonline.org/portal/wp-content/uploads/VideoCapture_20220505-174309.jpeg
END:VEVENT
BEGIN:VEVENT
DTSTART;TZID=America/New_York:20220428T200000
DTEND;TZID=America/New_York:20220428T210000
DTSTAMP:20260419T152827
CREATED:20220424T204244Z
LAST-MODIFIED:20220424T221108Z
UID:10000015-1651176000-1651179600@ihpaonline.org
SUMMARY:IHPA NE: The Power of a Healthy Body\, Peaceful Mind and Joyful Heart
DESCRIPTION:Looking to Improve Your Wellness at Home and Work?\nJoin IHPA NE and Dr Elizabeth Frates to LEARN about what wellness means\, IDENTIFY strategies and tools to help maximize wellness at home and work\, learn about PAVING the path to wellness\, and determine how to increase ENERGY naturally. \nAbout the Speaker:\nDr. Elizabeth Frates is an Award-winning\, internationally-renowned expert in Lifestyle Medicine Education and a faculty at Harvard Medical School. \n  \nRegister Here: bit.ly/IHPA-Wellness
URL:https://ihpaonline.org/event/ihpa-ne-the-power-of-a-healthy-body-peaceful-mind-and-joyful-heart/
LOCATION:Virtual
CATEGORIES:Regional,Webinar
ATTACH;FMTTYPE=image/png:https://ihpaonline.org/portal/wp-content/uploads/Artboard-2-1.png
END:VEVENT
BEGIN:VEVENT
DTSTART;TZID=America/Los_Angeles:20211114T110000
DTEND;TZID=America/Los_Angeles:20211114T150000
DTSTAMP:20260419T152827
CREATED:20211107T200130Z
LAST-MODIFIED:20211107T200546Z
UID:10000019-1636887600-1636902000@ihpaonline.org
SUMMARY:IHPA Southern California Networking Mixer
DESCRIPTION:Empowering Healthcare Delivery Through Technology Advances During Current Times and Future \nJoin us for brunch! Leaders in health technology will facilitate a discussion about how artificial intelligence\, software\, sensors\, and connected devices\, voice and other technology advances are empowering better healthcare delivery. Open to health care workers and students. \nGuest Speakers:\nDr. Adil Esmail\, Orthopedic surgery: Kaiser Permanente \nZain Gulamali\, Venture Capital Investor: Amazon Alexa Fund \nRegistration Required
URL:https://ihpaonline.org/event/ihpa-southern-california-networking-mixer/
LOCATION:LAHQ Jamatkhana Social Hall
CATEGORIES:Regional
ATTACH;FMTTYPE=image/png:https://ihpaonline.org/portal/wp-content/uploads/3x2Artboard-5.png
END:VEVENT
BEGIN:VEVENT
DTSTART;TZID=America/New_York:20210131T150000
DTEND;TZID=America/New_York:20210131T160000
DTSTAMP:20260419T152827
CREATED:20210118T001449Z
LAST-MODIFIED:20210118T001910Z
UID:10000006-1612105200-1612108800@ihpaonline.org
SUMMARY:IHPA/INA Southeast Health Professionals Virtual Meetup
DESCRIPTION:IHPA & INA Southeast invites you to Health Professionals Virtual Meet Up feating keynote speaker Dr. Rahil Rojiani & a special message from Dr. Salim Virani\, Chairman\, Aga Khan Health Board for the USA. \nDr. Rojiani is a resident physician in Harvard community psychiatry program at Cambridge Health Alliance. Researcher in neuroscience and psychology of mediation at Brown\, Yale and the Center of Mindfulness at UMass Worcester. Conducts mediation workshops for health care professionals.
URL:https://ihpaonline.org/event/ihpa-ina-se-health-professionals-virtual-meetup/
LOCATION:CA
CATEGORIES:Regional
ATTACH;FMTTYPE=image/jpeg:https://ihpaonline.org/portal/wp-content/uploads/AdobeStock_215028555-1000.jpg
END:VEVENT
BEGIN:VEVENT
DTSTART;TZID=America/Chicago:20210110T110000
DTEND;TZID=America/Chicago:20210110T120000
DTSTAMP:20260419T152827
CREATED:20210110T062744Z
LAST-MODIFIED:20210110T062744Z
UID:10000007-1610276400-1610280000@ihpaonline.org
SUMMARY:Southwest IHPA Virtual Mixer feating Zahir Ladhani & Salim Virani
DESCRIPTION:Join the Southwestern IHPA for a virtual mixer feating CEO Zahir Ladhani and AKHB National Chairman Dr. Salim Virani as they introduce the IHPA and Ismaili Nursing Alliance (INA)\, discuss their personal journey with seva\, and provide updates on COVID-19.  Virtual games included!
URL:https://ihpaonline.org/event/southwest-ihpa-virtual-mixer-feating-zahir-ladhani-salim-virani/
LOCATION:CA
CATEGORIES:Regional
ATTACH;FMTTYPE=image/jpeg:https://ihpaonline.org/portal/wp-content/uploads/AdobeStock_215028555-1000.jpg
END:VEVENT
END:VCALENDAR