BEGIN:VCALENDAR
VERSION:2.0
PRODID:-//Ismaili Health Professionals Association USA - ECPv6.15.20//NONSGML v1.0//EN
CALSCALE:GREGORIAN
METHOD:PUBLISH
X-ORIGINAL-URL:https://ihpaonline.org
X-WR-CALDESC:Events for Ismaili Health Professionals Association USA
REFRESH-INTERVAL;VALUE=DURATION:PT1H
X-Robots-Tag:noindex
X-PUBLISHED-TTL:PT1H
BEGIN:VTIMEZONE
TZID:America/Chicago
BEGIN:DAYLIGHT
TZOFFSETFROM:-0600
TZOFFSETTO:-0500
TZNAME:CDT
DTSTART:20200308T080000
END:DAYLIGHT
BEGIN:STANDARD
TZOFFSETFROM:-0500
TZOFFSETTO:-0600
TZNAME:CST
DTSTART:20201101T070000
END:STANDARD
BEGIN:DAYLIGHT
TZOFFSETFROM:-0600
TZOFFSETTO:-0500
TZNAME:CDT
DTSTART:20210314T080000
END:DAYLIGHT
BEGIN:STANDARD
TZOFFSETFROM:-0500
TZOFFSETTO:-0600
TZNAME:CST
DTSTART:20211107T070000
END:STANDARD
BEGIN:DAYLIGHT
TZOFFSETFROM:-0600
TZOFFSETTO:-0500
TZNAME:CDT
DTSTART:20220313T080000
END:DAYLIGHT
BEGIN:STANDARD
TZOFFSETFROM:-0500
TZOFFSETTO:-0600
TZNAME:CST
DTSTART:20221106T070000
END:STANDARD
BEGIN:DAYLIGHT
TZOFFSETFROM:-0600
TZOFFSETTO:-0500
TZNAME:CDT
DTSTART:20230312T080000
END:DAYLIGHT
BEGIN:STANDARD
TZOFFSETFROM:-0500
TZOFFSETTO:-0600
TZNAME:CST
DTSTART:20231105T070000
END:STANDARD
BEGIN:DAYLIGHT
TZOFFSETFROM:-0600
TZOFFSETTO:-0500
TZNAME:CDT
DTSTART:20240310T080000
END:DAYLIGHT
BEGIN:STANDARD
TZOFFSETFROM:-0500
TZOFFSETTO:-0600
TZNAME:CST
DTSTART:20241103T070000
END:STANDARD
BEGIN:DAYLIGHT
TZOFFSETFROM:-0600
TZOFFSETTO:-0500
TZNAME:CDT
DTSTART:20250309T080000
END:DAYLIGHT
BEGIN:STANDARD
TZOFFSETFROM:-0500
TZOFFSETTO:-0600
TZNAME:CST
DTSTART:20251102T070000
END:STANDARD
BEGIN:DAYLIGHT
TZOFFSETFROM:-0600
TZOFFSETTO:-0500
TZNAME:CDT
DTSTART:20260308T080000
END:DAYLIGHT
BEGIN:STANDARD
TZOFFSETFROM:-0500
TZOFFSETTO:-0600
TZNAME:CST
DTSTART:20261101T070000
END:STANDARD
END:VTIMEZONE
BEGIN:VTIMEZONE
TZID:America/New_York
BEGIN:DAYLIGHT
TZOFFSETFROM:-0500
TZOFFSETTO:-0400
TZNAME:EDT
DTSTART:20210314T070000
END:DAYLIGHT
BEGIN:STANDARD
TZOFFSETFROM:-0400
TZOFFSETTO:-0500
TZNAME:EST
DTSTART:20211107T060000
END:STANDARD
BEGIN:DAYLIGHT
TZOFFSETFROM:-0500
TZOFFSETTO:-0400
TZNAME:EDT
DTSTART:20220313T070000
END:DAYLIGHT
BEGIN:STANDARD
TZOFFSETFROM:-0400
TZOFFSETTO:-0500
TZNAME:EST
DTSTART:20221106T060000
END:STANDARD
BEGIN:DAYLIGHT
TZOFFSETFROM:-0500
TZOFFSETTO:-0400
TZNAME:EDT
DTSTART:20230312T070000
END:DAYLIGHT
BEGIN:STANDARD
TZOFFSETFROM:-0400
TZOFFSETTO:-0500
TZNAME:EST
DTSTART:20231105T060000
END:STANDARD
END:VTIMEZONE
BEGIN:VTIMEZONE
TZID:America/Chicago
BEGIN:DAYLIGHT
TZOFFSETFROM:-0600
TZOFFSETTO:-0500
TZNAME:CDT
DTSTART:20200308T080000
END:DAYLIGHT
BEGIN:STANDARD
TZOFFSETFROM:-0500
TZOFFSETTO:-0600
TZNAME:CST
DTSTART:20201101T070000
END:STANDARD
BEGIN:DAYLIGHT
TZOFFSETFROM:-0600
TZOFFSETTO:-0500
TZNAME:CDT
DTSTART:20210314T080000
END:DAYLIGHT
BEGIN:STANDARD
TZOFFSETFROM:-0500
TZOFFSETTO:-0600
TZNAME:CST
DTSTART:20211107T070000
END:STANDARD
BEGIN:DAYLIGHT
TZOFFSETFROM:-0600
TZOFFSETTO:-0500
TZNAME:CDT
DTSTART:20220313T080000
END:DAYLIGHT
BEGIN:STANDARD
TZOFFSETFROM:-0500
TZOFFSETTO:-0600
TZNAME:CST
DTSTART:20221106T070000
END:STANDARD
END:VTIMEZONE
BEGIN:VEVENT
DTSTART;TZID=America/Chicago:20250309T130000
DTEND;TZID=America/Chicago:20250309T140000
DTSTAMP:20260421T054643
CREATED:20250203T193228Z
LAST-MODIFIED:20250305T041818Z
UID:10000026-1741525200-1741528800@ihpaonline.org
SUMMARY:IPMP Virtual Networking 2025
DESCRIPTION:Looking to connect with healthcare professionals? \nJoin us for an engaging virtual networking event where you can gain insights from experts across various healthcare fields. \nWhat to Expect: \n✔️ Interactive discussions with professionals \n✔️ Opportunities to expand your network \n✔️ Valuable insights into different healthcare careers \nDon’t miss out—reserve your spot today!
URL:https://ihpaonline.org/event/3064/
LOCATION:Virtual
CATEGORIES:IPMP
ATTACH;FMTTYPE=image/jpeg:https://ihpaonline.org/portal/wp-content/uploads/AdobeStock_870570032-scaled.jpeg
END:VEVENT
BEGIN:VEVENT
DTSTART;TZID=America/Chicago:20250225T203000
DTEND;TZID=America/Chicago:20250225T213000
DTSTAMP:20260421T054643
CREATED:20250203T192511Z
LAST-MODIFIED:20250214T031302Z
UID:10000025-1740515400-1740519000@ihpaonline.org
SUMMARY:IHPA Grand Rounds - Long COVID: A Multisystem Challenge – Clinical Insights for Healthcare Professionals
DESCRIPTION:Long COVID presents a unique and evolving challenge for clinicians. This webinar brings together leading specialists in internal medicine\, neurology\, cardiology\, and pulmonology to provide a comprehensive\, evidence-based update on Long COVID. Our panel will discuss pathophysiology\, diagnosis\, and management strategies to help healthcare professionals provide better care to patients struggling with post-acute sequelae of COVID-19.
URL:https://ihpaonline.org/event/ihpa-grand-rounds-long-covid-a-multisystem-challenge-clinical-insights-for-healthcare-professionals/
LOCATION:Virtual
CATEGORIES:IHPA Grand Rounds
ATTACH;FMTTYPE=image/jpeg:https://ihpaonline.org/portal/wp-content/uploads/AdobeStock_494406732-scaled.jpeg
END:VEVENT
BEGIN:VEVENT
DTSTART;TZID=America/Chicago:20220903T120000
DTEND;TZID=America/Chicago:20220903T130000
DTSTAMP:20260421T054643
CREATED:20220823T034149Z
LAST-MODIFIED:20220823T034149Z
UID:10000001-1662206400-1662210000@ihpaonline.org
SUMMARY:IPMP: Preparing for Virtual Interviews for Health Professional Schools
DESCRIPTION:Come join us as we provide tips and tricks for virtual interviews for the upcoming interview season.
URL:https://ihpaonline.org/event/ipmp-preparing-for-virtual-interviews-for-health-professional-schools/
LOCATION:Virtual
ATTACH;FMTTYPE=image/jpeg:https://ihpaonline.org/portal/wp-content/uploads/756Artboard-4.jpg
END:VEVENT
BEGIN:VEVENT
DTSTART;TZID=America/Chicago:20220605T130000
DTEND;TZID=America/Chicago:20220605T140000
DTSTAMP:20260421T054643
CREATED:20220601T184940Z
LAST-MODIFIED:20220601T185947Z
UID:10000012-1654434000-1654437600@ihpaonline.org
SUMMARY:IPMP: Medical Residency Post-Match Panel
DESCRIPTION:AKHB’s IPMP is holding a medical residency panel on Sunday June 5\, 2022 at 1pm CT. Recently matched residents will share their experience with application and match process for residencies. Register at tinyurl.com/ipmpjune2022.
URL:https://ihpaonline.org/event/ipmp-medical-residency-post-match-panel/
LOCATION:Virtual
CATEGORIES:IPMP
ATTACH;FMTTYPE=image/png:https://ihpaonline.org/portal/wp-content/uploads/doctors.png
END:VEVENT
BEGIN:VEVENT
DTSTART;TZID=America/Chicago:20220518T200000
DTEND;TZID=America/Chicago:20220518T210000
DTSTAMP:20260421T054643
CREATED:20220424T212728Z
LAST-MODIFIED:20220425T031025Z
UID:10000013-1652904000-1652907600@ihpaonline.org
SUMMARY:Nursing Grand Rounds: Pathways to Nursing Leadership
DESCRIPTION:EXPLORING THE ROADS TO CAREER ADVANCEMENT \nThe nursing profession has rapidly evolved in the past decade\, offering many opportunities to advance in leadership roles. Please join us to discuss different avenues and strategies to help nursing professionals become nurse leaders. \nFeaturing: \nVasim Lakhani\, MSN\, APRN\, ACNPC-AG\, RN \nMunira Gulzar\, MSN\, RN \nAnar Massani\, BSN\, RN \nYasmin Pesnani\, MSN\, BSN\, RN\, ONC \n  \nRegister Here: tinyurl.com/INAGR2022
URL:https://ihpaonline.org/event/ina-grand-rounds-pathways-to-nursing-leadership/
LOCATION:Virtual
CATEGORIES:IHPA Grand Rounds,INA,Webinar
ATTACH;FMTTYPE=image/png:https://ihpaonline.org/portal/wp-content/uploads/nursing.png
END:VEVENT
BEGIN:VEVENT
DTSTART;TZID=America/Chicago:20220515T130000
DTEND;TZID=America/Chicago:20220515T143000
DTSTAMP:20260421T054643
CREATED:20220424T202348Z
LAST-MODIFIED:20220427T023654Z
UID:10000016-1652619600-1652625000@ihpaonline.org
SUMMARY:IPMP Presents: Personal Statement and Application Review for Health Profession Applicants
DESCRIPTION:Are you applying to a Health Professional School this year? Join IPMP’s Personal Statement and Application Workshop on Sunday May 15\, 2022 at 1 pm CT. Applicants will be able to get individual feedback on Applications for Health Professional schools.\n\nRegister Here:  tinyurl.com/ipmpmay2022
URL:https://ihpaonline.org/event/ipmp-presents-personal-statement-and-application-review-for-health-profession-applicants/
LOCATION:Virtual
CATEGORIES:IPMP
ATTACH;FMTTYPE=image/png:https://ihpaonline.org/portal/wp-content/uploads/resume.png
END:VEVENT
BEGIN:VEVENT
DTSTART;TZID=America/New_York:20220428T200000
DTEND;TZID=America/New_York:20220428T210000
DTSTAMP:20260421T054643
CREATED:20220424T204244Z
LAST-MODIFIED:20220424T221108Z
UID:10000015-1651176000-1651179600@ihpaonline.org
SUMMARY:IHPA NE: The Power of a Healthy Body\, Peaceful Mind and Joyful Heart
DESCRIPTION:Looking to Improve Your Wellness at Home and Work?\nJoin IHPA NE and Dr Elizabeth Frates to LEARN about what wellness means\, IDENTIFY strategies and tools to help maximize wellness at home and work\, learn about PAVING the path to wellness\, and determine how to increase ENERGY naturally. \nAbout the Speaker:\nDr. Elizabeth Frates is an Award-winning\, internationally-renowned expert in Lifestyle Medicine Education and a faculty at Harvard Medical School. \n  \nRegister Here: bit.ly/IHPA-Wellness
URL:https://ihpaonline.org/event/ihpa-ne-the-power-of-a-healthy-body-peaceful-mind-and-joyful-heart/
LOCATION:Virtual
CATEGORIES:Regional,Webinar
ATTACH;FMTTYPE=image/png:https://ihpaonline.org/portal/wp-content/uploads/Artboard-2-1.png
END:VEVENT
BEGIN:VEVENT
DTSTART;TZID=America/Chicago:20220302T203000
DTEND;TZID=America/Chicago:20220302T213000
DTSTAMP:20260421T054643
CREATED:20220228T032535Z
LAST-MODIFIED:20220228T034422Z
UID:10000017-1646253000-1646256600@ihpaonline.org
SUMMARY:IHPA USA & IHPP Canada: Dentistry Grand Rounds
DESCRIPTION:The dental profession has changed rapidly over the last few years. Join IHPA USA and IHPP Canada to discuss the technological advances in dentistry and dental hygiene as well as practice building strategies to help all dental professionals and entrepreneurs grow their business.
URL:https://ihpaonline.org/event/ihpa-usa-ihpp-canada-dentistry-grand-rounds/
LOCATION:Virtual
CATEGORIES:Global,IHPA Grand Rounds,Webinar
ATTACH;FMTTYPE=image/png:https://ihpaonline.org/portal/wp-content/uploads/Dental-GR-Square-Flyer-Blue-Final-2022-02-16-e1646019848720.png
END:VEVENT
BEGIN:VEVENT
DTSTART;TZID=America/Chicago:20220227T130000
DTEND;TZID=America/Chicago:20220227T133000
DTSTAMP:20260421T054643
CREATED:20220228T032154Z
LAST-MODIFIED:20220228T032154Z
UID:10000018-1645966800-1645968600@ihpaonline.org
SUMMARY:IPMP Presents: Pathways to Nursing
DESCRIPTION:
URL:https://ihpaonline.org/event/ipmp-presents-pathways-to-nursing/
LOCATION:Virtual
CATEGORIES:IPMP
END:VEVENT
BEGIN:VEVENT
DTSTART;TZID=America/Chicago:20211120T130000
DTEND;TZID=America/Chicago:20211120T140000
DTSTAMP:20260421T054643
CREATED:20211107T193244Z
LAST-MODIFIED:20211107T193244Z
UID:10000002-1637413200-1637416800@ihpaonline.org
SUMMARY:IPMP Presents: Application Strengthening for Residency Programs
DESCRIPTION:Are you planning on applying to a residency program for a healthcare field? Join us on Saturday Nov 20\, 2021 to get tips on application strengthening. Various specialists will be available to provide insight regarding applications. Register required.
URL:https://ihpaonline.org/event/ipmp-presents-application-strengthening-for-residency-programs/
LOCATION:Virtual
ATTACH;FMTTYPE=image/jpeg:https://ihpaonline.org/portal/wp-content/uploads/756Artboard-4.jpg
END:VEVENT
BEGIN:VEVENT
DTSTART;TZID=America/Chicago:20210813T170000
DTEND;TZID=America/Chicago:20210815T130000
DTSTAMP:20260421T054643
CREATED:20210712T201454Z
LAST-MODIFIED:20210802T040734Z
UID:10000004-1628874000-1629032400@ihpaonline.org
SUMMARY:Ismaili Health Professionals Conference
DESCRIPTION:Are you a healthcare practitioner\, health professional\, or health tech entrepreneur? Are you looking for thought-provoking exchanges\, connections\, professional development opportunities\, and mentorship? Would you like to learn more about the institutional objectives for improving the quality of life of the Jamat and surrounding communities? \nThe IHPA\, in collaboration with the Aga Khan Health Boards for Canada\, UK\, and USA\, is pleased to announce a virtual Ismaili Health Professionals Conference to take place from Friday\, August 13 to Sunday\, August 15. \nFeaturing influential global keynote speakers\, including a five-time nominee for the Nobel Peace Prize\, there will be something for everyone\, from seasoned professionals to a track designed just for students. \nFor more information and to register\, please visit iicanada.org/ihpc.
URL:https://ihpaonline.org/event/ismaili-health-professionals-conference/
LOCATION:Virtual
CATEGORIES:Global
ATTACH;FMTTYPE=image/jpeg:https://ihpaonline.org/portal/wp-content/uploads/AL-AK-Feature_1000x381.jpeg
END:VEVENT
END:VCALENDAR